BEGIN:VCALENDAR
VERSION:2.0
PRODID:-//Tukios.com/
BEGIN:VEVENT
UID:7d1610e1-e7d9-49ee-8ad8-b227644c3209@www.bowserondriezek.com
DTSTAMP:20260419T225208Z
DTSTART:20260424T150000Z
DTEND:20260424T160000Z
SUMMARY:Mass
DESCRIPTION:
URL:https://www.bowserondriezek.com/obituaries/alice-verba
LOCATION: 1020 Caroline Street  Nanty-Glo PA 15943
GEO:40.4707833;-78.8385268
END:VEVENT
END:VCALENDAR