BEGIN:VCALENDAR
VERSION:2.0
PRODID:-//Tukios.com/
BEGIN:VEVENT
UID:d133854d-066d-4d0e-95d0-24ffffbaffc6@www.bowserondriezek.com
DTSTAMP:20260419T225126Z
DTSTART:20260423T190000Z
DTEND:20260423T230000Z
SUMMARY:Visitation
DESCRIPTION:
URL:https://www.bowserondriezek.com/obituaries/alice-verba
LOCATION: 1102 Cardiff Road  Nanty-Glo PA 15943
GEO:40.47321;-78.8320812
END:VEVENT
END:VCALENDAR